BEGIN:VCALENDAR
VERSION:2.0
PRODID:-//Association Ghizzolo - ECPv3.9.1//NONSGML v1.0//EN
CALSCALE:GREGORIAN
METHOD:PUBLISH
X-WR-CALNAME:Association Ghizzolo
X-ORIGINAL-URL:http://www.musiqueetpassion.fr
X-WR-CALDESC:Events for Association Ghizzolo
BEGIN:VEVENT
DTSTART;VALUE=DATE-TIME:20161023T170000
DTEND;VALUE=DATE-TIME:20161023T183000
DTSTAMP:20260425T002846
CREATED:20161017T102724
LAST-MODIFIED:20161028T052540
UID:378-1477242000-1477247400@http://www.musiqueetpassion.fr
SUMMARY:Concert en deux parties
DESCRIPTION:Plorans Ploravit (Selva di flauti) et Meslanges (Voix de Ville)  dimanche 23 octobre 2016  17 h - Notre-Dame-la-Grande      Quelques images du concert donné ce jour :     
URL:http://www.musiqueetpassion.fr/event/concert-en-deux-parties/
LOCATION:Poitiers, 86000
CATEGORIES:Musique de la Renaissance
ATTACH;FMTTYPE=image/jpeg:http://www.musiqueetpassion.fr/wp-content/uploads/2016/01/DSC07852.jpg
END:VEVENT
END:VCALENDAR